BEGIN:VCALENDAR
VERSION:2.0
PRODID:-// - ECPv6.15.20//NONSGML v1.0//EN
CALSCALE:GREGORIAN
METHOD:PUBLISH
X-ORIGINAL-URL:https://norwoodstbonifacelegion.ca
X-WR-CALDESC:Events for 
REFRESH-INTERVAL;VALUE=DURATION:PT1H
X-Robots-Tag:noindex
X-PUBLISHED-TTL:PT1H
BEGIN:VTIMEZONE
TZID:America/Winnipeg
BEGIN:DAYLIGHT
TZOFFSETFROM:-0600
TZOFFSETTO:-0500
TZNAME:CDT
DTSTART:20250309T080000
END:DAYLIGHT
BEGIN:STANDARD
TZOFFSETFROM:-0500
TZOFFSETTO:-0600
TZNAME:CST
DTSTART:20251102T070000
END:STANDARD
BEGIN:DAYLIGHT
TZOFFSETFROM:-0600
TZOFFSETTO:-0500
TZNAME:CDT
DTSTART:20260308T080000
END:DAYLIGHT
BEGIN:STANDARD
TZOFFSETFROM:-0500
TZOFFSETTO:-0600
TZNAME:CST
DTSTART:20261101T070000
END:STANDARD
BEGIN:DAYLIGHT
TZOFFSETFROM:-0600
TZOFFSETTO:-0500
TZNAME:CDT
DTSTART:20270314T080000
END:DAYLIGHT
BEGIN:STANDARD
TZOFFSETFROM:-0500
TZOFFSETTO:-0600
TZNAME:CST
DTSTART:20271107T070000
END:STANDARD
END:VTIMEZONE
BEGIN:VEVENT
DTSTART;TZID=America/Winnipeg:20261223T190000
DTEND;TZID=America/Winnipeg:20261223T230000
DTSTAMP:20260422T082353
CREATED:20260307T033948Z
LAST-MODIFIED:20260307T033948Z
UID:9701-1798052400-1798066800@norwoodstbonifacelegion.ca
SUMMARY:Cribbage
DESCRIPTION:Wednesday Cribbage
URL:https://norwoodstbonifacelegion.ca/event/cribbage-42/
CATEGORIES:Wednesday Cribbage
END:VEVENT
BEGIN:VEVENT
DTSTART;TZID=America/Winnipeg:20261225T170000
DTEND;TZID=America/Winnipeg:20261225T230000
DTSTAMP:20260422T082353
CREATED:20260307T034547Z
LAST-MODIFIED:20260307T034547Z
UID:9746-1798218000-1798239600@norwoodstbonifacelegion.ca
SUMMARY:Friday Evening
DESCRIPTION:Friday Evening
URL:https://norwoodstbonifacelegion.ca/event/friday-evening-42/
CATEGORIES:Friday Evening
END:VEVENT
BEGIN:VEVENT
DTSTART;TZID=America/Winnipeg:20261226T113000
DTEND;TZID=America/Winnipeg:20261226T160000
DTSTAMP:20260422T082353
CREATED:20260307T040337Z
LAST-MODIFIED:20260307T040337Z
UID:9802-1798284600-1798300800@norwoodstbonifacelegion.ca
SUMMARY:Bingo
DESCRIPTION:Saturday Bingo
URL:https://norwoodstbonifacelegion.ca/event/bingo-54/
CATEGORIES:Saturday Bingo
END:VEVENT
BEGIN:VEVENT
DTSTART;TZID=America/Winnipeg:20261226T190000
DTEND;TZID=America/Winnipeg:20261226T230000
DTSTAMP:20260422T082353
CREATED:20260104T231043Z
LAST-MODIFIED:20260104T231043Z
UID:9594-1798311600-1798326000@norwoodstbonifacelegion.ca
SUMMARY:Saturday Evening Dance - NO DANCE
DESCRIPTION:Saturday Evening Dance – NO DANCE
URL:https://norwoodstbonifacelegion.ca/event/saturday-evening-dance-no-dance-7/
CATEGORIES:Saturday Evening Dance
END:VEVENT
BEGIN:VEVENT
DTSTART;TZID=America/Winnipeg:20261230T190000
DTEND;TZID=America/Winnipeg:20261230T230000
DTSTAMP:20260422T082353
CREATED:20260307T033948Z
LAST-MODIFIED:20260307T033948Z
UID:9702-1798657200-1798671600@norwoodstbonifacelegion.ca
SUMMARY:Cribbage
DESCRIPTION:Wednesday Cribbage
URL:https://norwoodstbonifacelegion.ca/event/cribbage-43/
CATEGORIES:Wednesday Cribbage
END:VEVENT
BEGIN:VEVENT
DTSTART;TZID=America/Winnipeg:20261231T113000
DTEND;TZID=America/Winnipeg:20261231T160000
DTSTAMP:20260422T082353
CREATED:20260307T040338Z
LAST-MODIFIED:20260307T040338Z
UID:9803-1798716600-1798732800@norwoodstbonifacelegion.ca
SUMMARY:Bingo
DESCRIPTION:Saturday Bingo
URL:https://norwoodstbonifacelegion.ca/event/bingo-55/
CATEGORIES:Saturday Bingo
END:VEVENT
BEGIN:VEVENT
DTSTART;TZID=America/Winnipeg:20261231T190000
DTEND;TZID=America/Winnipeg:20261231T230000
DTSTAMP:20260422T082353
CREATED:20260104T231043Z
LAST-MODIFIED:20260104T231043Z
UID:9595-1798743600-1798758000@norwoodstbonifacelegion.ca
SUMMARY:Saturday Evening Dance - Starlites
DESCRIPTION:Saturday Evening Dance – Starlites
URL:https://norwoodstbonifacelegion.ca/event/saturday-evening-dance-starlites-14/
CATEGORIES:Saturday Evening Dance
END:VEVENT
END:VCALENDAR