BEGIN:VCALENDAR
VERSION:2.0
PRODID:-// - ECPv6.15.20//NONSGML v1.0//EN
CALSCALE:GREGORIAN
METHOD:PUBLISH
X-ORIGINAL-URL:https://norwoodstbonifacelegion.ca
X-WR-CALDESC:Events for 
REFRESH-INTERVAL;VALUE=DURATION:PT1H
X-Robots-Tag:noindex
X-PUBLISHED-TTL:PT1H
BEGIN:VTIMEZONE
TZID:America/Winnipeg
BEGIN:DAYLIGHT
TZOFFSETFROM:-0600
TZOFFSETTO:-0500
TZNAME:CDT
DTSTART:20250309T080000
END:DAYLIGHT
BEGIN:STANDARD
TZOFFSETFROM:-0500
TZOFFSETTO:-0600
TZNAME:CST
DTSTART:20251102T070000
END:STANDARD
BEGIN:DAYLIGHT
TZOFFSETFROM:-0600
TZOFFSETTO:-0500
TZNAME:CDT
DTSTART:20260308T080000
END:DAYLIGHT
BEGIN:STANDARD
TZOFFSETFROM:-0500
TZOFFSETTO:-0600
TZNAME:CST
DTSTART:20261101T070000
END:STANDARD
BEGIN:DAYLIGHT
TZOFFSETFROM:-0600
TZOFFSETTO:-0500
TZNAME:CDT
DTSTART:20270314T080000
END:DAYLIGHT
BEGIN:STANDARD
TZOFFSETFROM:-0500
TZOFFSETTO:-0600
TZNAME:CST
DTSTART:20271107T070000
END:STANDARD
END:VTIMEZONE
BEGIN:VEVENT
DTSTART;TZID=America/Winnipeg:20260904T170000
DTEND;TZID=America/Winnipeg:20260904T230000
DTSTAMP:20260419T135622
CREATED:20260307T034501Z
LAST-MODIFIED:20260307T034501Z
UID:9730-1788541200-1788562800@norwoodstbonifacelegion.ca
SUMMARY:Friday Evening
DESCRIPTION:Friday Evening
URL:https://norwoodstbonifacelegion.ca/event/friday-evening-26/
CATEGORIES:Friday Evening
END:VEVENT
BEGIN:VEVENT
DTSTART;TZID=America/Winnipeg:20260905T113000
DTEND;TZID=America/Winnipeg:20260905T160000
DTSTAMP:20260419T135622
CREATED:20260307T035735Z
LAST-MODIFIED:20260307T035735Z
UID:9785-1788607800-1788624000@norwoodstbonifacelegion.ca
SUMMARY:Bingo
DESCRIPTION:Saturday Bingo
URL:https://norwoodstbonifacelegion.ca/event/bingo-37/
CATEGORIES:Saturday Bingo
END:VEVENT
BEGIN:VEVENT
DTSTART;TZID=America/Winnipeg:20260905T190000
DTEND;TZID=America/Winnipeg:20260905T230000
DTSTAMP:20260419T135622
CREATED:20260104T231000Z
LAST-MODIFIED:20260104T231000Z
UID:9577-1788634800-1788649200@norwoodstbonifacelegion.ca
SUMMARY:Saturday Evening Dance - HWY 6
DESCRIPTION:Saturday Evening Dance – HWY 6
URL:https://norwoodstbonifacelegion.ca/event/saturday-evening-dance-hwy-6-13/
CATEGORIES:Saturday Evening Dance
END:VEVENT
BEGIN:VEVENT
DTSTART;TZID=America/Winnipeg:20260909T190000
DTEND;TZID=America/Winnipeg:20260909T230000
DTSTAMP:20260419T135622
CREATED:20260307T033751Z
LAST-MODIFIED:20260307T033751Z
UID:9686-1788980400-1788994800@norwoodstbonifacelegion.ca
SUMMARY:Cribbage
DESCRIPTION:Wednesday Cribbage
URL:https://norwoodstbonifacelegion.ca/event/cribbage-27/
CATEGORIES:Wednesday Cribbage
END:VEVENT
BEGIN:VEVENT
DTSTART;TZID=America/Winnipeg:20260911T170000
DTEND;TZID=America/Winnipeg:20260911T230000
DTSTAMP:20260419T135622
CREATED:20260307T034501Z
LAST-MODIFIED:20260307T034501Z
UID:9731-1789146000-1789167600@norwoodstbonifacelegion.ca
SUMMARY:Friday Evening
DESCRIPTION:Friday Evening
URL:https://norwoodstbonifacelegion.ca/event/friday-evening-27/
CATEGORIES:Friday Evening
END:VEVENT
BEGIN:VEVENT
DTSTART;TZID=America/Winnipeg:20260912T113000
DTEND;TZID=America/Winnipeg:20260912T160000
DTSTAMP:20260419T135622
CREATED:20260307T035735Z
LAST-MODIFIED:20260307T035735Z
UID:9786-1789212600-1789228800@norwoodstbonifacelegion.ca
SUMMARY:Bingo
DESCRIPTION:Saturday Bingo
URL:https://norwoodstbonifacelegion.ca/event/bingo-38/
CATEGORIES:Saturday Bingo
END:VEVENT
BEGIN:VEVENT
DTSTART;TZID=America/Winnipeg:20260912T190000
DTEND;TZID=America/Winnipeg:20260912T230000
DTSTAMP:20260419T135622
CREATED:20260104T231000Z
LAST-MODIFIED:20260104T231000Z
UID:9578-1789239600-1789254000@norwoodstbonifacelegion.ca
SUMMARY:Saturday Evening Dance - Starlites
DESCRIPTION:Saturday Evening Dance – Starlites
URL:https://norwoodstbonifacelegion.ca/event/saturday-evening-dance-starlites-11/
CATEGORIES:Saturday Evening Dance
END:VEVENT
BEGIN:VEVENT
DTSTART;TZID=America/Winnipeg:20260915T183000
DTEND;TZID=America/Winnipeg:20260915T210000
DTSTAMP:20260419T135622
CREATED:20260105T045212Z
LAST-MODIFIED:20260105T045214Z
UID:9612-1789497000-1789506000@norwoodstbonifacelegion.ca
SUMMARY:EXECUTIVE MEETING
DESCRIPTION:
URL:https://norwoodstbonifacelegion.ca/event/executive-meeting-14/
END:VEVENT
BEGIN:VEVENT
DTSTART;TZID=America/Winnipeg:20260916T190000
DTEND;TZID=America/Winnipeg:20260916T230000
DTSTAMP:20260419T135622
CREATED:20260307T033752Z
LAST-MODIFIED:20260307T033752Z
UID:9687-1789585200-1789599600@norwoodstbonifacelegion.ca
SUMMARY:Cribbage
DESCRIPTION:Wednesday Cribbage
URL:https://norwoodstbonifacelegion.ca/event/cribbage-28/
CATEGORIES:Wednesday Cribbage
END:VEVENT
BEGIN:VEVENT
DTSTART;TZID=America/Winnipeg:20260918T170000
DTEND;TZID=America/Winnipeg:20260918T230000
DTSTAMP:20260419T135622
CREATED:20260307T034501Z
LAST-MODIFIED:20260307T034501Z
UID:9732-1789750800-1789772400@norwoodstbonifacelegion.ca
SUMMARY:Friday Evening
DESCRIPTION:Friday Evening
URL:https://norwoodstbonifacelegion.ca/event/friday-evening-28/
CATEGORIES:Friday Evening
END:VEVENT
BEGIN:VEVENT
DTSTART;TZID=America/Winnipeg:20260919T113000
DTEND;TZID=America/Winnipeg:20260919T160000
DTSTAMP:20260419T135622
CREATED:20260307T035735Z
LAST-MODIFIED:20260307T035735Z
UID:9787-1789817400-1789833600@norwoodstbonifacelegion.ca
SUMMARY:Bingo
DESCRIPTION:Saturday Bingo
URL:https://norwoodstbonifacelegion.ca/event/bingo-39/
CATEGORIES:Saturday Bingo
END:VEVENT
BEGIN:VEVENT
DTSTART;TZID=America/Winnipeg:20260919T190000
DTEND;TZID=America/Winnipeg:20260919T230000
DTSTAMP:20260419T135622
CREATED:20260104T231000Z
LAST-MODIFIED:20260104T231000Z
UID:9579-1789844400-1789858800@norwoodstbonifacelegion.ca
SUMMARY:Saturday Evening Dance - TOP SECRET
DESCRIPTION:Saturday Evening Dance – TOP SECRET
URL:https://norwoodstbonifacelegion.ca/event/saturday-evening-dance-top-secret-13/
CATEGORIES:Saturday Evening Dance
END:VEVENT
BEGIN:VEVENT
DTSTART;TZID=America/Winnipeg:20260923T190000
DTEND;TZID=America/Winnipeg:20260923T230000
DTSTAMP:20260419T135622
CREATED:20260307T033752Z
LAST-MODIFIED:20260307T033752Z
UID:9688-1790190000-1790204400@norwoodstbonifacelegion.ca
SUMMARY:Cribbage
DESCRIPTION:Wednesday Cribbage
URL:https://norwoodstbonifacelegion.ca/event/cribbage-29/
CATEGORIES:Wednesday Cribbage
END:VEVENT
BEGIN:VEVENT
DTSTART;TZID=America/Winnipeg:20260924T190000
DTEND;TZID=America/Winnipeg:20260924T203000
DTSTAMP:20260419T135622
CREATED:20260105T045846Z
LAST-MODIFIED:20260105T045847Z
UID:9624-1790276400-1790281800@norwoodstbonifacelegion.ca
SUMMARY:GENERAL MEETING
DESCRIPTION:
URL:https://norwoodstbonifacelegion.ca/event/general-meeting-9/
END:VEVENT
BEGIN:VEVENT
DTSTART;TZID=America/Winnipeg:20260925T170000
DTEND;TZID=America/Winnipeg:20260925T230000
DTSTAMP:20260419T135622
CREATED:20260307T034501Z
LAST-MODIFIED:20260307T034501Z
UID:9733-1790355600-1790377200@norwoodstbonifacelegion.ca
SUMMARY:Friday Evening
DESCRIPTION:Friday Evening
URL:https://norwoodstbonifacelegion.ca/event/friday-evening-29/
CATEGORIES:Friday Evening
END:VEVENT
BEGIN:VEVENT
DTSTART;TZID=America/Winnipeg:20260926T113000
DTEND;TZID=America/Winnipeg:20260926T160000
DTSTAMP:20260419T135622
CREATED:20260307T035735Z
LAST-MODIFIED:20260307T035735Z
UID:9788-1790422200-1790438400@norwoodstbonifacelegion.ca
SUMMARY:Bingo
DESCRIPTION:Saturday Bingo
URL:https://norwoodstbonifacelegion.ca/event/bingo-40/
CATEGORIES:Saturday Bingo
END:VEVENT
BEGIN:VEVENT
DTSTART;TZID=America/Winnipeg:20260926T190000
DTEND;TZID=America/Winnipeg:20260926T230000
DTSTAMP:20260419T135622
CREATED:20260104T231000Z
LAST-MODIFIED:20260104T231000Z
UID:9580-1790449200-1790463600@norwoodstbonifacelegion.ca
SUMMARY:Saturday Evening Dance - STEVE
DESCRIPTION:Saturday Evening Dance – STEVE
URL:https://norwoodstbonifacelegion.ca/event/saturday-evening-dance-steve-13/
CATEGORIES:Saturday Evening Dance
END:VEVENT
BEGIN:VEVENT
DTSTART;TZID=America/Winnipeg:20260930T190000
DTEND;TZID=America/Winnipeg:20260930T230000
DTSTAMP:20260419T135622
CREATED:20260307T033752Z
LAST-MODIFIED:20260307T033752Z
UID:9689-1790794800-1790809200@norwoodstbonifacelegion.ca
SUMMARY:Cribbage
DESCRIPTION:Wednesday Cribbage
URL:https://norwoodstbonifacelegion.ca/event/cribbage-30/
CATEGORIES:Wednesday Cribbage
END:VEVENT
BEGIN:VEVENT
DTSTART;TZID=America/Winnipeg:20261002T170000
DTEND;TZID=America/Winnipeg:20261002T230000
DTSTAMP:20260419T135622
CREATED:20260307T034501Z
LAST-MODIFIED:20260307T034501Z
UID:9734-1790960400-1790982000@norwoodstbonifacelegion.ca
SUMMARY:Friday Evening
DESCRIPTION:Friday Evening
URL:https://norwoodstbonifacelegion.ca/event/friday-evening-30/
CATEGORIES:Friday Evening
END:VEVENT
BEGIN:VEVENT
DTSTART;TZID=America/Winnipeg:20261003T113000
DTEND;TZID=America/Winnipeg:20261003T160000
DTSTAMP:20260419T135622
CREATED:20260307T035934Z
LAST-MODIFIED:20260307T035934Z
UID:9789-1791027000-1791043200@norwoodstbonifacelegion.ca
SUMMARY:Bingo
DESCRIPTION:Saturday Bingo
URL:https://norwoodstbonifacelegion.ca/event/bingo-41/
CATEGORIES:Saturday Bingo
END:VEVENT
BEGIN:VEVENT
DTSTART;TZID=America/Winnipeg:20261003T190000
DTEND;TZID=America/Winnipeg:20261003T230000
DTSTAMP:20260419T135622
CREATED:20260104T231012Z
LAST-MODIFIED:20260104T231012Z
UID:9581-1791054000-1791068400@norwoodstbonifacelegion.ca
SUMMARY:Saturday Evening Dance - GEMSTAR
DESCRIPTION:Saturday Evening Dance – GEMSTAR
URL:https://norwoodstbonifacelegion.ca/event/saturday-evening-dance-gemstar-14/
CATEGORIES:Saturday Evening Dance
END:VEVENT
BEGIN:VEVENT
DTSTART;TZID=America/Winnipeg:20261004T113000
DTEND;TZID=America/Winnipeg:20261004T160000
DTSTAMP:20260419T135622
CREATED:20260307T035934Z
LAST-MODIFIED:20260307T035934Z
UID:9790-1791113400-1791129600@norwoodstbonifacelegion.ca
SUMMARY:Bingo
DESCRIPTION:Saturday Bingo
URL:https://norwoodstbonifacelegion.ca/event/bingo-42/
CATEGORIES:Saturday Bingo
END:VEVENT
BEGIN:VEVENT
DTSTART;TZID=America/Winnipeg:20261004T190000
DTEND;TZID=America/Winnipeg:20261004T230000
DTSTAMP:20260419T135622
CREATED:20260104T231012Z
LAST-MODIFIED:20260104T231012Z
UID:9582-1791140400-1791154800@norwoodstbonifacelegion.ca
SUMMARY:Saturday Evening Dance - Country Pride
DESCRIPTION:Saturday Evening Dance – Country Pride
URL:https://norwoodstbonifacelegion.ca/event/saturday-evening-dance-country-pride-6/
CATEGORIES:Saturday Evening Dance
END:VEVENT
BEGIN:VEVENT
DTSTART;TZID=America/Winnipeg:20261007T190000
DTEND;TZID=America/Winnipeg:20261007T230000
DTSTAMP:20260419T135622
CREATED:20260307T033805Z
LAST-MODIFIED:20260307T033805Z
UID:9690-1791399600-1791414000@norwoodstbonifacelegion.ca
SUMMARY:Cribbage
DESCRIPTION:Wednesday Cribbage
URL:https://norwoodstbonifacelegion.ca/event/cribbage-31/
CATEGORIES:Wednesday Cribbage
END:VEVENT
BEGIN:VEVENT
DTSTART;TZID=America/Winnipeg:20261009T170000
DTEND;TZID=America/Winnipeg:20261009T230000
DTSTAMP:20260419T135622
CREATED:20260307T034516Z
LAST-MODIFIED:20260307T034516Z
UID:9735-1791565200-1791586800@norwoodstbonifacelegion.ca
SUMMARY:Friday Evening
DESCRIPTION:Friday Evening
URL:https://norwoodstbonifacelegion.ca/event/friday-evening-31/
CATEGORIES:Friday Evening
END:VEVENT
BEGIN:VEVENT
DTSTART;TZID=America/Winnipeg:20261010T113000
DTEND;TZID=America/Winnipeg:20261010T160000
DTSTAMP:20260419T135622
CREATED:20260307T035935Z
LAST-MODIFIED:20260307T035935Z
UID:9791-1791631800-1791648000@norwoodstbonifacelegion.ca
SUMMARY:Bingo
DESCRIPTION:Saturday Bingo
URL:https://norwoodstbonifacelegion.ca/event/bingo-43/
CATEGORIES:Saturday Bingo
END:VEVENT
BEGIN:VEVENT
DTSTART;TZID=America/Winnipeg:20261010T190000
DTEND;TZID=America/Winnipeg:20261010T230000
DTSTAMP:20260419T135622
CREATED:20260104T231013Z
LAST-MODIFIED:20260104T231013Z
UID:9583-1791658800-1791673200@norwoodstbonifacelegion.ca
SUMMARY:Saturday Evening Dance - Starlites
DESCRIPTION:Saturday Evening Dance – Starlites
URL:https://norwoodstbonifacelegion.ca/event/saturday-evening-dance-starlites-12/
CATEGORIES:Saturday Evening Dance
END:VEVENT
BEGIN:VEVENT
DTSTART;TZID=America/Winnipeg:20261014T190000
DTEND;TZID=America/Winnipeg:20261014T230000
DTSTAMP:20260419T135622
CREATED:20260307T033805Z
LAST-MODIFIED:20260307T033805Z
UID:9691-1792004400-1792018800@norwoodstbonifacelegion.ca
SUMMARY:Cribbage
DESCRIPTION:Wednesday Cribbage
URL:https://norwoodstbonifacelegion.ca/event/cribbage-32/
CATEGORIES:Wednesday Cribbage
END:VEVENT
BEGIN:VEVENT
DTSTART;TZID=America/Winnipeg:20261016T170000
DTEND;TZID=America/Winnipeg:20261016T230000
DTSTAMP:20260419T135622
CREATED:20260307T034517Z
LAST-MODIFIED:20260307T034517Z
UID:9736-1792170000-1792191600@norwoodstbonifacelegion.ca
SUMMARY:Friday Evening
DESCRIPTION:Friday Evening
URL:https://norwoodstbonifacelegion.ca/event/friday-evening-32/
CATEGORIES:Friday Evening
END:VEVENT
BEGIN:VEVENT
DTSTART;TZID=America/Winnipeg:20261017T113000
DTEND;TZID=America/Winnipeg:20261017T160000
DTSTAMP:20260419T135622
CREATED:20260307T035935Z
LAST-MODIFIED:20260307T035935Z
UID:9792-1792236600-1792252800@norwoodstbonifacelegion.ca
SUMMARY:Bingo
DESCRIPTION:Saturday Bingo
URL:https://norwoodstbonifacelegion.ca/event/bingo-44/
CATEGORIES:Saturday Bingo
END:VEVENT
END:VCALENDAR