BEGIN:VCALENDAR
VERSION:2.0
PRODID:-// - ECPv6.15.20//NONSGML v1.0//EN
CALSCALE:GREGORIAN
METHOD:PUBLISH
X-ORIGINAL-URL:https://norwoodstbonifacelegion.ca
X-WR-CALDESC:Events for 
REFRESH-INTERVAL;VALUE=DURATION:PT1H
X-Robots-Tag:noindex
X-PUBLISHED-TTL:PT1H
BEGIN:VTIMEZONE
TZID:America/Winnipeg
BEGIN:DAYLIGHT
TZOFFSETFROM:-0600
TZOFFSETTO:-0500
TZNAME:CDT
DTSTART:20250309T080000
END:DAYLIGHT
BEGIN:STANDARD
TZOFFSETFROM:-0500
TZOFFSETTO:-0600
TZNAME:CST
DTSTART:20251102T070000
END:STANDARD
BEGIN:DAYLIGHT
TZOFFSETFROM:-0600
TZOFFSETTO:-0500
TZNAME:CDT
DTSTART:20260308T080000
END:DAYLIGHT
BEGIN:STANDARD
TZOFFSETFROM:-0500
TZOFFSETTO:-0600
TZNAME:CST
DTSTART:20261101T070000
END:STANDARD
BEGIN:DAYLIGHT
TZOFFSETFROM:-0600
TZOFFSETTO:-0500
TZNAME:CDT
DTSTART:20270314T080000
END:DAYLIGHT
BEGIN:STANDARD
TZOFFSETFROM:-0500
TZOFFSETTO:-0600
TZNAME:CST
DTSTART:20271107T070000
END:STANDARD
END:VTIMEZONE
BEGIN:VEVENT
DTSTART;TZID=America/Winnipeg:20260422T190000
DTEND;TZID=America/Winnipeg:20260422T230000
DTSTAMP:20260423T121834
CREATED:20260307T033654Z
LAST-MODIFIED:20260307T033654Z
UID:9666-1776884400-1776898800@norwoodstbonifacelegion.ca
SUMMARY:Cribbage
DESCRIPTION:Wednesday Cribbage
URL:https://norwoodstbonifacelegion.ca/event/cribbage-7/
CATEGORIES:Wednesday Cribbage
END:VEVENT
BEGIN:VEVENT
DTSTART;TZID=America/Winnipeg:20260424T170000
DTEND;TZID=America/Winnipeg:20260424T230000
DTSTAMP:20260423T121834
CREATED:20260307T034141Z
LAST-MODIFIED:20260307T034141Z
UID:9711-1777050000-1777071600@norwoodstbonifacelegion.ca
SUMMARY:Friday Evening
DESCRIPTION:Friday Evening
URL:https://norwoodstbonifacelegion.ca/event/friday-evening-7/
CATEGORIES:Friday Evening
END:VEVENT
BEGIN:VEVENT
DTSTART;TZID=America/Winnipeg:20260425T113000
DTEND;TZID=America/Winnipeg:20260425T160000
DTSTAMP:20260423T121834
CREATED:20260307T034929Z
LAST-MODIFIED:20260307T034929Z
UID:9766-1777116600-1777132800@norwoodstbonifacelegion.ca
SUMMARY:Bingo
DESCRIPTION:Saturday Bingo
URL:https://norwoodstbonifacelegion.ca/event/bingo-18/
CATEGORIES:Saturday Bingo
END:VEVENT
BEGIN:VEVENT
DTSTART;TZID=America/Winnipeg:20260425T190000
DTEND;TZID=America/Winnipeg:20260425T230000
DTSTAMP:20260423T121834
CREATED:20260104T230429Z
LAST-MODIFIED:20260104T230429Z
UID:9558-1777143600-1777158000@norwoodstbonifacelegion.ca
SUMMARY:Saturday Evening Dance - Country Pride
DESCRIPTION:Saturday Evening Dance – Country Pride
URL:https://norwoodstbonifacelegion.ca/event/saturday-evening-dance-country-pride-3/
CATEGORIES:Saturday Evening Dance
END:VEVENT
BEGIN:VEVENT
DTSTART;TZID=America/Winnipeg:20260429T190000
DTEND;TZID=America/Winnipeg:20260429T230000
DTSTAMP:20260423T121834
CREATED:20260307T033654Z
LAST-MODIFIED:20260307T033654Z
UID:9667-1777489200-1777503600@norwoodstbonifacelegion.ca
SUMMARY:Cribbage
DESCRIPTION:Wednesday Cribbage
URL:https://norwoodstbonifacelegion.ca/event/cribbage-8/
CATEGORIES:Wednesday Cribbage
END:VEVENT
BEGIN:VEVENT
DTSTART;TZID=America/Winnipeg:20260501T170000
DTEND;TZID=America/Winnipeg:20260501T230000
DTSTAMP:20260423T121834
CREATED:20260307T034141Z
LAST-MODIFIED:20260307T034141Z
UID:9712-1777654800-1777676400@norwoodstbonifacelegion.ca
SUMMARY:Friday Evening
DESCRIPTION:Friday Evening
URL:https://norwoodstbonifacelegion.ca/event/friday-evening-8/
CATEGORIES:Friday Evening
END:VEVENT
BEGIN:VEVENT
DTSTART;TZID=America/Winnipeg:20260502T113000
DTEND;TZID=America/Winnipeg:20260502T160000
DTSTAMP:20260423T121834
CREATED:20260307T034929Z
LAST-MODIFIED:20260307T034929Z
UID:9767-1777721400-1777737600@norwoodstbonifacelegion.ca
SUMMARY:Bingo
DESCRIPTION:Saturday Bingo
URL:https://norwoodstbonifacelegion.ca/event/bingo-19/
CATEGORIES:Saturday Bingo
END:VEVENT
BEGIN:VEVENT
DTSTART;TZID=America/Winnipeg:20260502T190000
DTEND;TZID=America/Winnipeg:20260502T230000
DTSTAMP:20260423T121834
CREATED:20260104T230429Z
LAST-MODIFIED:20260104T230429Z
UID:9559-1777748400-1777762800@norwoodstbonifacelegion.ca
SUMMARY:Saturday Evening Dance - Starlites
DESCRIPTION:Saturday Evening Dance – Starlites
URL:https://norwoodstbonifacelegion.ca/event/saturday-evening-dance-starlites-9/
CATEGORIES:Saturday Evening Dance
END:VEVENT
BEGIN:VEVENT
DTSTART;TZID=America/Winnipeg:20260506T190000
DTEND;TZID=America/Winnipeg:20260506T230000
DTSTAMP:20260423T121834
CREATED:20260307T033654Z
LAST-MODIFIED:20260307T033654Z
UID:9668-1778094000-1778108400@norwoodstbonifacelegion.ca
SUMMARY:Cribbage
DESCRIPTION:Wednesday Cribbage
URL:https://norwoodstbonifacelegion.ca/event/cribbage-9/
CATEGORIES:Wednesday Cribbage
END:VEVENT
BEGIN:VEVENT
DTSTART;TZID=America/Winnipeg:20260508T170000
DTEND;TZID=America/Winnipeg:20260508T230000
DTSTAMP:20260423T121834
CREATED:20260307T034142Z
LAST-MODIFIED:20260307T034142Z
UID:9713-1778259600-1778281200@norwoodstbonifacelegion.ca
SUMMARY:Friday Evening
DESCRIPTION:Friday Evening
URL:https://norwoodstbonifacelegion.ca/event/friday-evening-9/
CATEGORIES:Friday Evening
END:VEVENT
BEGIN:VEVENT
DTSTART;TZID=America/Winnipeg:20260509T113000
DTEND;TZID=America/Winnipeg:20260509T160000
DTSTAMP:20260423T121834
CREATED:20260307T034929Z
LAST-MODIFIED:20260307T034929Z
UID:9768-1778326200-1778342400@norwoodstbonifacelegion.ca
SUMMARY:Bingo
DESCRIPTION:Saturday Bingo
URL:https://norwoodstbonifacelegion.ca/event/bingo-20/
CATEGORIES:Saturday Bingo
END:VEVENT
BEGIN:VEVENT
DTSTART;TZID=America/Winnipeg:20260509T190000
DTEND;TZID=America/Winnipeg:20260509T230000
DTSTAMP:20260423T121834
CREATED:20260104T230429Z
LAST-MODIFIED:20260104T230429Z
UID:9560-1778353200-1778367600@norwoodstbonifacelegion.ca
SUMMARY:Saturday Evening Dance - NO DANCE
DESCRIPTION:Saturday Evening Dance – NO DANCE
URL:https://norwoodstbonifacelegion.ca/event/saturday-evening-dance-no-dance-5/
CATEGORIES:Saturday Evening Dance
END:VEVENT
BEGIN:VEVENT
DTSTART;TZID=America/Winnipeg:20260513T190000
DTEND;TZID=America/Winnipeg:20260513T230000
DTSTAMP:20260423T121834
CREATED:20260307T033654Z
LAST-MODIFIED:20260307T033654Z
UID:9669-1778698800-1778713200@norwoodstbonifacelegion.ca
SUMMARY:Cribbage
DESCRIPTION:Wednesday Cribbage
URL:https://norwoodstbonifacelegion.ca/event/cribbage-10/
CATEGORIES:Wednesday Cribbage
END:VEVENT
BEGIN:VEVENT
DTSTART;TZID=America/Winnipeg:20260515T170000
DTEND;TZID=America/Winnipeg:20260515T230000
DTSTAMP:20260423T121834
CREATED:20260307T034142Z
LAST-MODIFIED:20260307T034142Z
UID:9714-1778864400-1778886000@norwoodstbonifacelegion.ca
SUMMARY:Friday Evening
DESCRIPTION:Friday Evening
URL:https://norwoodstbonifacelegion.ca/event/friday-evening-10/
CATEGORIES:Friday Evening
END:VEVENT
BEGIN:VEVENT
DTSTART;TZID=America/Winnipeg:20260516T113000
DTEND;TZID=America/Winnipeg:20260516T160000
DTSTAMP:20260423T121834
CREATED:20260307T035130Z
LAST-MODIFIED:20260307T035130Z
UID:9769-1778931000-1778947200@norwoodstbonifacelegion.ca
SUMMARY:Bingo
DESCRIPTION:Saturday Bingo
URL:https://norwoodstbonifacelegion.ca/event/bingo-21/
CATEGORIES:Saturday Bingo
END:VEVENT
BEGIN:VEVENT
DTSTART;TZID=America/Winnipeg:20260516T190000
DTEND;TZID=America/Winnipeg:20260516T230000
DTSTAMP:20260423T121834
CREATED:20260104T230444Z
LAST-MODIFIED:20260104T230444Z
UID:9561-1778958000-1778972400@norwoodstbonifacelegion.ca
SUMMARY:Saturday Evening Dance - TRAILRIDERS
DESCRIPTION:Saturday Evening Dance – TRAILRIDERS
URL:https://norwoodstbonifacelegion.ca/event/saturday-evening-dance-trailriders-2/
CATEGORIES:Saturday Evening Dance
END:VEVENT
BEGIN:VEVENT
DTSTART;TZID=America/Winnipeg:20260519T183000
DTEND;TZID=America/Winnipeg:20260519T210000
DTSTAMP:20260423T121834
CREATED:20260105T045115Z
LAST-MODIFIED:20260105T045116Z
UID:9610-1779215400-1779224400@norwoodstbonifacelegion.ca
SUMMARY:EXECUTIVE MEETING
DESCRIPTION:
URL:https://norwoodstbonifacelegion.ca/event/executive-meeting-13/
END:VEVENT
BEGIN:VEVENT
DTSTART;TZID=America/Winnipeg:20260520T190000
DTEND;TZID=America/Winnipeg:20260520T230000
DTSTAMP:20260423T121834
CREATED:20260307T033707Z
LAST-MODIFIED:20260307T033707Z
UID:9670-1779303600-1779318000@norwoodstbonifacelegion.ca
SUMMARY:Cribbage
DESCRIPTION:Wednesday Cribbage
URL:https://norwoodstbonifacelegion.ca/event/cribbage-11/
CATEGORIES:Wednesday Cribbage
END:VEVENT
BEGIN:VEVENT
DTSTART;TZID=America/Winnipeg:20260522T170000
DTEND;TZID=America/Winnipeg:20260522T230000
DTSTAMP:20260423T121834
CREATED:20260307T034155Z
LAST-MODIFIED:20260307T034155Z
UID:9715-1779469200-1779490800@norwoodstbonifacelegion.ca
SUMMARY:Friday Evening
DESCRIPTION:Friday Evening
URL:https://norwoodstbonifacelegion.ca/event/friday-evening-11/
CATEGORIES:Friday Evening
END:VEVENT
BEGIN:VEVENT
DTSTART;TZID=America/Winnipeg:20260523T113000
DTEND;TZID=America/Winnipeg:20260523T160000
DTSTAMP:20260423T121834
CREATED:20260307T035130Z
LAST-MODIFIED:20260307T035130Z
UID:9770-1779535800-1779552000@norwoodstbonifacelegion.ca
SUMMARY:Bingo
DESCRIPTION:Saturday Bingo
URL:https://norwoodstbonifacelegion.ca/event/bingo-22/
CATEGORIES:Saturday Bingo
END:VEVENT
BEGIN:VEVENT
DTSTART;TZID=America/Winnipeg:20260523T190000
DTEND;TZID=America/Winnipeg:20260523T230000
DTSTAMP:20260423T121834
CREATED:20260104T230444Z
LAST-MODIFIED:20260104T230444Z
UID:9562-1779562800-1779577200@norwoodstbonifacelegion.ca
SUMMARY:Saturday Evening Dance - NO DANCE
DESCRIPTION:Saturday Evening Dance – NO DANCE
URL:https://norwoodstbonifacelegion.ca/event/saturday-evening-dance-no-dance-6/
CATEGORIES:Saturday Evening Dance
END:VEVENT
BEGIN:VEVENT
DTSTART;TZID=America/Winnipeg:20260526T190000
DTEND;TZID=America/Winnipeg:20260526T203000
DTSTAMP:20260423T121834
CREATED:20260105T045631Z
LAST-MODIFIED:20260105T045632Z
UID:9622-1779822000-1779827400@norwoodstbonifacelegion.ca
SUMMARY:GENERAL MEETING
DESCRIPTION:
URL:https://norwoodstbonifacelegion.ca/event/general-meeting-8/
END:VEVENT
BEGIN:VEVENT
DTSTART;TZID=America/Winnipeg:20260527T190000
DTEND;TZID=America/Winnipeg:20260527T230000
DTSTAMP:20260423T121834
CREATED:20260307T033708Z
LAST-MODIFIED:20260307T033708Z
UID:9671-1779908400-1779922800@norwoodstbonifacelegion.ca
SUMMARY:Cribbage
DESCRIPTION:Wednesday Cribbage
URL:https://norwoodstbonifacelegion.ca/event/cribbage-12/
CATEGORIES:Wednesday Cribbage
END:VEVENT
BEGIN:VEVENT
DTSTART;TZID=America/Winnipeg:20260529T170000
DTEND;TZID=America/Winnipeg:20260529T230000
DTSTAMP:20260423T121834
CREATED:20260307T034155Z
LAST-MODIFIED:20260307T034155Z
UID:9716-1780074000-1780095600@norwoodstbonifacelegion.ca
SUMMARY:Friday Evening
DESCRIPTION:Friday Evening
URL:https://norwoodstbonifacelegion.ca/event/friday-evening-12/
CATEGORIES:Friday Evening
END:VEVENT
BEGIN:VEVENT
DTSTART;TZID=America/Winnipeg:20260530T113000
DTEND;TZID=America/Winnipeg:20260530T160000
DTSTAMP:20260423T121834
CREATED:20260307T035130Z
LAST-MODIFIED:20260307T035130Z
UID:9771-1780140600-1780156800@norwoodstbonifacelegion.ca
SUMMARY:Bingo
DESCRIPTION:Saturday Bingo
URL:https://norwoodstbonifacelegion.ca/event/bingo-23/
CATEGORIES:Saturday Bingo
END:VEVENT
BEGIN:VEVENT
DTSTART;TZID=America/Winnipeg:20260530T190000
DTEND;TZID=America/Winnipeg:20260530T230000
DTSTAMP:20260423T121834
CREATED:20260104T230444Z
LAST-MODIFIED:20260104T230444Z
UID:9563-1780167600-1780182000@norwoodstbonifacelegion.ca
SUMMARY:Saturday Evening Dance - Country Pride
DESCRIPTION:Saturday Evening Dance – Country Pride
URL:https://norwoodstbonifacelegion.ca/event/saturday-evening-dance-country-pride-4/
CATEGORIES:Saturday Evening Dance
END:VEVENT
BEGIN:VEVENT
DTSTART;TZID=America/Winnipeg:20260603T190000
DTEND;TZID=America/Winnipeg:20260603T230000
DTSTAMP:20260423T121834
CREATED:20260307T033708Z
LAST-MODIFIED:20260307T033708Z
UID:9672-1780513200-1780527600@norwoodstbonifacelegion.ca
SUMMARY:Cribbage
DESCRIPTION:Wednesday Cribbage
URL:https://norwoodstbonifacelegion.ca/event/cribbage-13/
CATEGORIES:Wednesday Cribbage
END:VEVENT
BEGIN:VEVENT
DTSTART;TZID=America/Winnipeg:20260605T170000
DTEND;TZID=America/Winnipeg:20260605T230000
DTSTAMP:20260423T121834
CREATED:20260307T034156Z
LAST-MODIFIED:20260307T034156Z
UID:9717-1780678800-1780700400@norwoodstbonifacelegion.ca
SUMMARY:Friday Evening
DESCRIPTION:Friday Evening
URL:https://norwoodstbonifacelegion.ca/event/friday-evening-13/
CATEGORIES:Friday Evening
END:VEVENT
BEGIN:VEVENT
DTSTART;TZID=America/Winnipeg:20260606T113000
DTEND;TZID=America/Winnipeg:20260606T160000
DTSTAMP:20260423T121834
CREATED:20260307T035130Z
LAST-MODIFIED:20260307T035130Z
UID:9772-1780745400-1780761600@norwoodstbonifacelegion.ca
SUMMARY:Bingo
DESCRIPTION:Saturday Bingo
URL:https://norwoodstbonifacelegion.ca/event/bingo-24/
CATEGORIES:Saturday Bingo
END:VEVENT
BEGIN:VEVENT
DTSTART;TZID=America/Winnipeg:20260606T190000
DTEND;TZID=America/Winnipeg:20260606T230000
DTSTAMP:20260423T121834
CREATED:20260104T230444Z
LAST-MODIFIED:20260104T230444Z
UID:9564-1780772400-1780786800@norwoodstbonifacelegion.ca
SUMMARY:Saturday Evening Dance - Mark Morrisseau
DESCRIPTION:Saturday Evening Dance – Mark Morrisseau
URL:https://norwoodstbonifacelegion.ca/event/saturday-evening-dance-mark-morrisseau-11/
CATEGORIES:Saturday Evening Dance
END:VEVENT
END:VCALENDAR