BEGIN:VCALENDAR
VERSION:2.0
PRODID:-// - ECPv6.15.20//NONSGML v1.0//EN
CALSCALE:GREGORIAN
METHOD:PUBLISH
X-ORIGINAL-URL:https://norwoodstbonifacelegion.ca
X-WR-CALDESC:Events for 
REFRESH-INTERVAL;VALUE=DURATION:PT1H
X-Robots-Tag:noindex
X-PUBLISHED-TTL:PT1H
BEGIN:VTIMEZONE
TZID:America/Winnipeg
BEGIN:DAYLIGHT
TZOFFSETFROM:-0600
TZOFFSETTO:-0500
TZNAME:CDT
DTSTART:20240310T080000
END:DAYLIGHT
BEGIN:STANDARD
TZOFFSETFROM:-0500
TZOFFSETTO:-0600
TZNAME:CST
DTSTART:20241103T070000
END:STANDARD
BEGIN:DAYLIGHT
TZOFFSETFROM:-0600
TZOFFSETTO:-0500
TZNAME:CDT
DTSTART:20250309T080000
END:DAYLIGHT
BEGIN:STANDARD
TZOFFSETFROM:-0500
TZOFFSETTO:-0600
TZNAME:CST
DTSTART:20251102T070000
END:STANDARD
BEGIN:DAYLIGHT
TZOFFSETFROM:-0600
TZOFFSETTO:-0500
TZNAME:CDT
DTSTART:20260308T080000
END:DAYLIGHT
BEGIN:STANDARD
TZOFFSETFROM:-0500
TZOFFSETTO:-0600
TZNAME:CST
DTSTART:20261101T070000
END:STANDARD
BEGIN:DAYLIGHT
TZOFFSETFROM:-0600
TZOFFSETTO:-0500
TZNAME:CDT
DTSTART:20270314T080000
END:DAYLIGHT
BEGIN:STANDARD
TZOFFSETFROM:-0500
TZOFFSETTO:-0600
TZNAME:CST
DTSTART:20271107T070000
END:STANDARD
END:VTIMEZONE
BEGIN:VEVENT
DTSTART;TZID=America/Winnipeg:20260216T190000
DTEND;TZID=America/Winnipeg:20260216T190000
DTSTAMP:20260421T130639
CREATED:20260104T230359Z
LAST-MODIFIED:20260104T230359Z
UID:9548-1771268400-1771268400@norwoodstbonifacelegion.ca
SUMMARY:Saturday Evening Dance - Mark Morrisseau
DESCRIPTION:Saturday Evening Dance – Mark Morrisseau
URL:https://norwoodstbonifacelegion.ca/event/saturday-evening-dance-mark-morrisseau-8/
CATEGORIES:Saturday Evening Dance
END:VEVENT
BEGIN:VEVENT
DTSTART;TZID=America/Winnipeg:20260216T113000
DTEND;TZID=America/Winnipeg:20260216T113000
DTSTAMP:20260421T130639
CREATED:20260307T034714Z
LAST-MODIFIED:20260307T034714Z
UID:9756-1771241400-1771241400@norwoodstbonifacelegion.ca
SUMMARY:Bingo
DESCRIPTION:Saturday Bingo
URL:https://norwoodstbonifacelegion.ca/event/bingo-8/
CATEGORIES:Saturday Bingo
END:VEVENT
BEGIN:VEVENT
DTSTART;TZID=America/Winnipeg:20260214T190000
DTEND;TZID=America/Winnipeg:20260214T230000
DTSTAMP:20260421T130639
CREATED:20260104T230359Z
LAST-MODIFIED:20260104T230359Z
UID:9547-1771095600-1771110000@norwoodstbonifacelegion.ca
SUMMARY:Saturday Evening Dance - STEVE
DESCRIPTION:Saturday Evening Dance – STEVE
URL:https://norwoodstbonifacelegion.ca/event/saturday-evening-dance-steve-9/
CATEGORIES:Saturday Evening Dance
END:VEVENT
BEGIN:VEVENT
DTSTART;TZID=America/Winnipeg:20260214T113000
DTEND;TZID=America/Winnipeg:20260214T160000
DTSTAMP:20260421T130639
CREATED:20260307T034714Z
LAST-MODIFIED:20260307T034714Z
UID:9755-1771068600-1771084800@norwoodstbonifacelegion.ca
SUMMARY:Bingo
DESCRIPTION:Saturday Bingo
URL:https://norwoodstbonifacelegion.ca/event/bingo-7/
CATEGORIES:Saturday Bingo
END:VEVENT
BEGIN:VEVENT
DTSTART;TZID=America/Winnipeg:20260207T190000
DTEND;TZID=America/Winnipeg:20260207T230000
DTSTAMP:20260421T130639
CREATED:20260104T230359Z
LAST-MODIFIED:20260104T230359Z
UID:9546-1770490800-1770505200@norwoodstbonifacelegion.ca
SUMMARY:Saturday Evening Dance - GEMSTAR
DESCRIPTION:Saturday Evening Dance – GEMSTAR
URL:https://norwoodstbonifacelegion.ca/event/saturday-evening-dance-gemstar-10/
CATEGORIES:Saturday Evening Dance
END:VEVENT
BEGIN:VEVENT
DTSTART;TZID=America/Winnipeg:20260207T113000
DTEND;TZID=America/Winnipeg:20260207T160000
DTSTAMP:20260421T130639
CREATED:20260307T034713Z
LAST-MODIFIED:20260307T034713Z
UID:9754-1770463800-1770480000@norwoodstbonifacelegion.ca
SUMMARY:Bingo
DESCRIPTION:Saturday Bingo
URL:https://norwoodstbonifacelegion.ca/event/bingo-6/
CATEGORIES:Saturday Bingo
END:VEVENT
BEGIN:VEVENT
DTSTART;TZID=America/Winnipeg:20260131T190000
DTEND;TZID=America/Winnipeg:20260131T230000
DTSTAMP:20260421T130639
CREATED:20260104T230355Z
LAST-MODIFIED:20260104T230355Z
UID:9545-1769886000-1769900400@norwoodstbonifacelegion.ca
SUMMARY:Saturday Evening Dance - HWY 6
DESCRIPTION:Saturday Evening Dance – HWY 6
URL:https://norwoodstbonifacelegion.ca/event/saturday-evening-dance-hwy-6-8/
CATEGORIES:Saturday Evening Dance
END:VEVENT
BEGIN:VEVENT
DTSTART;TZID=America/Winnipeg:20260131T113000
DTEND;TZID=America/Winnipeg:20260131T160000
DTSTAMP:20260421T130639
CREATED:20260307T034710Z
LAST-MODIFIED:20260307T034710Z
UID:9753-1769859000-1769875200@norwoodstbonifacelegion.ca
SUMMARY:Bingo
DESCRIPTION:Saturday Bingo
URL:https://norwoodstbonifacelegion.ca/event/bingo-5/
CATEGORIES:Saturday Bingo
END:VEVENT
BEGIN:VEVENT
DTSTART;TZID=America/Winnipeg:20260127T190000
DTEND;TZID=America/Winnipeg:20260127T203000
DTSTAMP:20260421T130639
CREATED:20260105T045454Z
LAST-MODIFIED:20260105T045455Z
UID:9618-1769540400-1769545800@norwoodstbonifacelegion.ca
SUMMARY:GENERAL MEETING
DESCRIPTION:
URL:https://norwoodstbonifacelegion.ca/event/general-meeting-3/
END:VEVENT
BEGIN:VEVENT
DTSTART;TZID=America/Winnipeg:20260124T190000
DTEND;TZID=America/Winnipeg:20260124T230000
DTSTAMP:20260421T130639
CREATED:20260104T230355Z
LAST-MODIFIED:20260104T230355Z
UID:9544-1769281200-1769295600@norwoodstbonifacelegion.ca
SUMMARY:Saturday Evening Dance - STEVE
DESCRIPTION:Saturday Evening Dance – STEVE
URL:https://norwoodstbonifacelegion.ca/event/saturday-evening-dance-steve-8/
CATEGORIES:Saturday Evening Dance
END:VEVENT
BEGIN:VEVENT
DTSTART;TZID=America/Winnipeg:20260124T113000
DTEND;TZID=America/Winnipeg:20260124T160000
DTSTAMP:20260421T130639
CREATED:20260307T034710Z
LAST-MODIFIED:20260307T034710Z
UID:9752-1769254200-1769270400@norwoodstbonifacelegion.ca
SUMMARY:Bingo
DESCRIPTION:Saturday Bingo
URL:https://norwoodstbonifacelegion.ca/event/bingo-4/
CATEGORIES:Saturday Bingo
END:VEVENT
BEGIN:VEVENT
DTSTART;TZID=America/Winnipeg:20260120T183000
DTEND;TZID=America/Winnipeg:20260120T210000
DTSTAMP:20260421T130639
CREATED:20260105T044826Z
LAST-MODIFIED:20260105T044829Z
UID:9604-1768933800-1768942800@norwoodstbonifacelegion.ca
SUMMARY:EXECUTIVE MEETING
DESCRIPTION:
URL:https://norwoodstbonifacelegion.ca/event/executive-meeting-10/
END:VEVENT
BEGIN:VEVENT
DTSTART;TZID=America/Winnipeg:20260117T190000
DTEND;TZID=America/Winnipeg:20260117T230000
DTSTAMP:20260421T130639
CREATED:20260104T230355Z
LAST-MODIFIED:20260104T230355Z
UID:9543-1768676400-1768690800@norwoodstbonifacelegion.ca
SUMMARY:Saturday Evening Dance - TOP SECRET
DESCRIPTION:Saturday Evening Dance – TOP SECRET
URL:https://norwoodstbonifacelegion.ca/event/saturday-evening-dance-top-secret-8/
CATEGORIES:Saturday Evening Dance
END:VEVENT
BEGIN:VEVENT
DTSTART;TZID=America/Winnipeg:20260117T113000
DTEND;TZID=America/Winnipeg:20260117T160000
DTSTAMP:20260421T130639
CREATED:20260307T034710Z
LAST-MODIFIED:20260307T034710Z
UID:9751-1768649400-1768665600@norwoodstbonifacelegion.ca
SUMMARY:Bingo
DESCRIPTION:Saturday Bingo
URL:https://norwoodstbonifacelegion.ca/event/bingo-3/
CATEGORIES:Saturday Bingo
END:VEVENT
BEGIN:VEVENT
DTSTART;TZID=America/Winnipeg:20260116T130000
DTEND;TZID=America/Winnipeg:20260116T150000
DTSTAMP:20260421T130639
CREATED:20251019T105004Z
LAST-MODIFIED:20251019T105004Z
UID:9444-1768568400-1768575600@norwoodstbonifacelegion.ca
SUMMARY:55+ Friday Afternoon Dance
DESCRIPTION:55+ Friday Afternoon Dance
URL:https://norwoodstbonifacelegion.ca/event/55-friday-afternoon-dance-10/
CATEGORIES:55+ Friday Afternoon Dance
END:VEVENT
BEGIN:VEVENT
DTSTART;TZID=America/Winnipeg:20260110T190000
DTEND;TZID=America/Winnipeg:20260110T230000
DTSTAMP:20260421T130639
CREATED:20260104T230355Z
LAST-MODIFIED:20260104T230355Z
UID:9542-1768071600-1768086000@norwoodstbonifacelegion.ca
SUMMARY:Saturday Evening Dance - Mark Morrisseau
DESCRIPTION:Saturday Evening Dance – Mark Morrisseau
URL:https://norwoodstbonifacelegion.ca/event/saturday-evening-dance-mark-morrisseau-7/
CATEGORIES:Saturday Evening Dance
END:VEVENT
BEGIN:VEVENT
DTSTART;TZID=America/Winnipeg:20260110T113000
DTEND;TZID=America/Winnipeg:20260110T160000
DTSTAMP:20260421T130639
CREATED:20260307T034710Z
LAST-MODIFIED:20260307T034710Z
UID:9750-1768044600-1768060800@norwoodstbonifacelegion.ca
SUMMARY:Bingo
DESCRIPTION:Saturday Bingo
URL:https://norwoodstbonifacelegion.ca/event/bingo-2/
CATEGORIES:Saturday Bingo
END:VEVENT
BEGIN:VEVENT
DTSTART;TZID=America/Winnipeg:20260109T130000
DTEND;TZID=America/Winnipeg:20260109T150000
DTSTAMP:20260421T130639
CREATED:20251019T105004Z
LAST-MODIFIED:20251019T105004Z
UID:9443-1767963600-1767970800@norwoodstbonifacelegion.ca
SUMMARY:55+ Friday Afternoon Dance
DESCRIPTION:55+ Friday Afternoon Dance
URL:https://norwoodstbonifacelegion.ca/event/55-friday-afternoon-dance-9/
CATEGORIES:55+ Friday Afternoon Dance
END:VEVENT
BEGIN:VEVENT
DTSTART;TZID=America/Winnipeg:20260103T190000
DTEND;TZID=America/Winnipeg:20260103T230000
DTSTAMP:20260421T130639
CREATED:20260104T230355Z
LAST-MODIFIED:20260104T230355Z
UID:9541-1767466800-1767481200@norwoodstbonifacelegion.ca
SUMMARY:Saturday Evening Dance - NO DANCE
DESCRIPTION:Saturday Evening Dance – NO DANCE
URL:https://norwoodstbonifacelegion.ca/event/saturday-evening-dance-no-dance-4/
CATEGORIES:Saturday Evening Dance
END:VEVENT
BEGIN:VEVENT
DTSTART;TZID=America/Winnipeg:20260103T113000
DTEND;TZID=America/Winnipeg:20260103T160000
DTSTAMP:20260421T130639
CREATED:20260307T034710Z
LAST-MODIFIED:20260307T034710Z
UID:9749-1767439800-1767456000@norwoodstbonifacelegion.ca
SUMMARY:Bingo
DESCRIPTION:Saturday Bingo
URL:https://norwoodstbonifacelegion.ca/event/bingo/
CATEGORIES:Saturday Bingo
END:VEVENT
BEGIN:VEVENT
DTSTART;TZID=America/Winnipeg:20251231T190000
DTEND;TZID=America/Winnipeg:20251231T230000
DTSTAMP:20260421T130639
CREATED:20241101T230202Z
LAST-MODIFIED:20241101T230202Z
UID:8885-1767207600-1767222000@norwoodstbonifacelegion.ca
SUMMARY:Saturday Evening Dance – Starlites - New year's Eve Dinner and Dance - call Faye 204-229-7280
DESCRIPTION:Saturday Evening Dance – Starlites – New year’s Eve Dinner and Dance – call Faye 204-229-7280
URL:https://norwoodstbonifacelegion.ca/event/saturday-evening-dance-starlites-new-years-eve-dinner-and-dance-call-faye-204-229-7280/
CATEGORIES:Saturday Evening Dance
END:VEVENT
BEGIN:VEVENT
DTSTART;TZID=America/Winnipeg:20251231T190000
DTEND;TZID=America/Winnipeg:20251231T220000
DTSTAMP:20260421T130639
CREATED:20250103T113915Z
LAST-MODIFIED:20250103T113915Z
UID:9017-1767207600-1767218400@norwoodstbonifacelegion.ca
SUMMARY:Crib Night
DESCRIPTION:Crib Night
URL:https://norwoodstbonifacelegion.ca/event/crib-night-52/
CATEGORIES:Crib Night
END:VEVENT
BEGIN:VEVENT
DTSTART;TZID=America/Winnipeg:20251227T190000
DTEND;TZID=America/Winnipeg:20251227T230000
DTSTAMP:20260421T130639
CREATED:20241101T230202Z
LAST-MODIFIED:20241101T230202Z
UID:8884-1766862000-1766876400@norwoodstbonifacelegion.ca
SUMMARY:Saturday Evening Dance - NO DANCE
DESCRIPTION:Saturday Evening Dance – NO DANCE
URL:https://norwoodstbonifacelegion.ca/event/saturday-evening-dance-no-dance-3/
CATEGORIES:Saturday Evening Dance
END:VEVENT
BEGIN:VEVENT
DTSTART;TZID=America/Winnipeg:20251227T123000
DTEND;TZID=America/Winnipeg:20251227T150000
DTSTAMP:20260421T130639
CREATED:20250103T115118Z
LAST-MODIFIED:20250103T115118Z
UID:9068-1766838600-1766847600@norwoodstbonifacelegion.ca
SUMMARY:Saturday Bingo
DESCRIPTION:Saturday Bingo
URL:https://norwoodstbonifacelegion.ca/event/saturday-bingo-64/
CATEGORIES:Saturday Bingo
END:VEVENT
BEGIN:VEVENT
DTSTART;TZID=America/Winnipeg:20251224T190000
DTEND;TZID=America/Winnipeg:20251224T220000
DTSTAMP:20260421T130639
CREATED:20250103T113915Z
LAST-MODIFIED:20250103T113915Z
UID:9016-1766602800-1766613600@norwoodstbonifacelegion.ca
SUMMARY:Crib Night
DESCRIPTION:Crib Night
URL:https://norwoodstbonifacelegion.ca/event/crib-night-51/
CATEGORIES:Crib Night
END:VEVENT
BEGIN:VEVENT
DTSTART;TZID=America/Winnipeg:20251220T190000
DTEND;TZID=America/Winnipeg:20251220T230000
DTSTAMP:20260421T130639
CREATED:20241101T230201Z
LAST-MODIFIED:20260104T223958Z
UID:8883-1766257200-1766271600@norwoodstbonifacelegion.ca
SUMMARY:Saturday Evening Dance - Steve
DESCRIPTION:Saturday Evening Dance – Steve
URL:https://norwoodstbonifacelegion.ca/event/saturday-evening-dance-steve-7/
CATEGORIES:Saturday Evening Dance
END:VEVENT
BEGIN:VEVENT
DTSTART;TZID=America/Winnipeg:20251220T123000
DTEND;TZID=America/Winnipeg:20251220T150000
DTSTAMP:20260421T130639
CREATED:20250103T115118Z
LAST-MODIFIED:20250103T115118Z
UID:9067-1766233800-1766242800@norwoodstbonifacelegion.ca
SUMMARY:Saturday Bingo
DESCRIPTION:Saturday Bingo
URL:https://norwoodstbonifacelegion.ca/event/saturday-bingo-63/
CATEGORIES:Saturday Bingo
END:VEVENT
BEGIN:VEVENT
DTSTART;TZID=America/Winnipeg:20251217T190000
DTEND;TZID=America/Winnipeg:20251217T220000
DTSTAMP:20260421T130639
CREATED:20250103T113714Z
LAST-MODIFIED:20250103T113714Z
UID:9015-1765998000-1766008800@norwoodstbonifacelegion.ca
SUMMARY:Crib Night
DESCRIPTION:Crib Night
URL:https://norwoodstbonifacelegion.ca/event/crib-night-50/
CATEGORIES:Crib Night
END:VEVENT
BEGIN:VEVENT
DTSTART;TZID=America/Winnipeg:20251213T190000
DTEND;TZID=America/Winnipeg:20251213T230000
DTSTAMP:20260421T130639
CREATED:20241101T230201Z
LAST-MODIFIED:20241101T230201Z
UID:8882-1765652400-1765666800@norwoodstbonifacelegion.ca
SUMMARY:Saturday Evening Dance - Gemstar
DESCRIPTION:Saturday Evening Dance – Gemstar
URL:https://norwoodstbonifacelegion.ca/event/saturday-evening-dance-gemstar-9/
CATEGORIES:Saturday Evening Dance
END:VEVENT
BEGIN:VEVENT
DTSTART;TZID=America/Winnipeg:20251213T123000
DTEND;TZID=America/Winnipeg:20251213T150000
DTSTAMP:20260421T130639
CREATED:20250103T115118Z
LAST-MODIFIED:20250103T115118Z
UID:9066-1765629000-1765638000@norwoodstbonifacelegion.ca
SUMMARY:Saturday Bingo
DESCRIPTION:Saturday Bingo
URL:https://norwoodstbonifacelegion.ca/event/saturday-bingo-62/
CATEGORIES:Saturday Bingo
END:VEVENT
END:VCALENDAR