BEGIN:VCALENDAR
VERSION:2.0
PRODID:-// - ECPv6.15.20//NONSGML v1.0//EN
CALSCALE:GREGORIAN
METHOD:PUBLISH
X-ORIGINAL-URL:https://norwoodstbonifacelegion.ca
X-WR-CALDESC:Events for 
REFRESH-INTERVAL;VALUE=DURATION:PT1H
X-Robots-Tag:noindex
X-PUBLISHED-TTL:PT1H
BEGIN:VTIMEZONE
TZID:America/Winnipeg
BEGIN:DAYLIGHT
TZOFFSETFROM:-0600
TZOFFSETTO:-0500
TZNAME:CDT
DTSTART:20240310T080000
END:DAYLIGHT
BEGIN:STANDARD
TZOFFSETFROM:-0500
TZOFFSETTO:-0600
TZNAME:CST
DTSTART:20241103T070000
END:STANDARD
BEGIN:DAYLIGHT
TZOFFSETFROM:-0600
TZOFFSETTO:-0500
TZNAME:CDT
DTSTART:20250309T080000
END:DAYLIGHT
BEGIN:STANDARD
TZOFFSETFROM:-0500
TZOFFSETTO:-0600
TZNAME:CST
DTSTART:20251102T070000
END:STANDARD
BEGIN:DAYLIGHT
TZOFFSETFROM:-0600
TZOFFSETTO:-0500
TZNAME:CDT
DTSTART:20260308T080000
END:DAYLIGHT
BEGIN:STANDARD
TZOFFSETFROM:-0500
TZOFFSETTO:-0600
TZNAME:CST
DTSTART:20261101T070000
END:STANDARD
END:VTIMEZONE
BEGIN:VEVENT
DTSTART;TZID=America/Winnipeg:20251227T190000
DTEND;TZID=America/Winnipeg:20251227T230000
DTSTAMP:20260421T174808
CREATED:20241101T230202Z
LAST-MODIFIED:20241101T230202Z
UID:8884-1766862000-1766876400@norwoodstbonifacelegion.ca
SUMMARY:Saturday Evening Dance - NO DANCE
DESCRIPTION:Saturday Evening Dance – NO DANCE
URL:https://norwoodstbonifacelegion.ca/event/saturday-evening-dance-no-dance-3/
CATEGORIES:Saturday Evening Dance
END:VEVENT
BEGIN:VEVENT
DTSTART;TZID=America/Winnipeg:20251227T123000
DTEND;TZID=America/Winnipeg:20251227T150000
DTSTAMP:20260421T174808
CREATED:20250103T115118Z
LAST-MODIFIED:20250103T115118Z
UID:9068-1766838600-1766847600@norwoodstbonifacelegion.ca
SUMMARY:Saturday Bingo
DESCRIPTION:Saturday Bingo
URL:https://norwoodstbonifacelegion.ca/event/saturday-bingo-64/
CATEGORIES:Saturday Bingo
END:VEVENT
BEGIN:VEVENT
DTSTART;TZID=America/Winnipeg:20251224T190000
DTEND;TZID=America/Winnipeg:20251224T220000
DTSTAMP:20260421T174808
CREATED:20250103T113915Z
LAST-MODIFIED:20250103T113915Z
UID:9016-1766602800-1766613600@norwoodstbonifacelegion.ca
SUMMARY:Crib Night
DESCRIPTION:Crib Night
URL:https://norwoodstbonifacelegion.ca/event/crib-night-51/
CATEGORIES:Crib Night
END:VEVENT
BEGIN:VEVENT
DTSTART;TZID=America/Winnipeg:20251220T190000
DTEND;TZID=America/Winnipeg:20251220T230000
DTSTAMP:20260421T174808
CREATED:20241101T230201Z
LAST-MODIFIED:20260104T223958Z
UID:8883-1766257200-1766271600@norwoodstbonifacelegion.ca
SUMMARY:Saturday Evening Dance - Steve
DESCRIPTION:Saturday Evening Dance – Steve
URL:https://norwoodstbonifacelegion.ca/event/saturday-evening-dance-steve-7/
CATEGORIES:Saturday Evening Dance
END:VEVENT
BEGIN:VEVENT
DTSTART;TZID=America/Winnipeg:20251220T123000
DTEND;TZID=America/Winnipeg:20251220T150000
DTSTAMP:20260421T174808
CREATED:20250103T115118Z
LAST-MODIFIED:20250103T115118Z
UID:9067-1766233800-1766242800@norwoodstbonifacelegion.ca
SUMMARY:Saturday Bingo
DESCRIPTION:Saturday Bingo
URL:https://norwoodstbonifacelegion.ca/event/saturday-bingo-63/
CATEGORIES:Saturday Bingo
END:VEVENT
BEGIN:VEVENT
DTSTART;TZID=America/Winnipeg:20251217T190000
DTEND;TZID=America/Winnipeg:20251217T220000
DTSTAMP:20260421T174808
CREATED:20250103T113714Z
LAST-MODIFIED:20250103T113714Z
UID:9015-1765998000-1766008800@norwoodstbonifacelegion.ca
SUMMARY:Crib Night
DESCRIPTION:Crib Night
URL:https://norwoodstbonifacelegion.ca/event/crib-night-50/
CATEGORIES:Crib Night
END:VEVENT
BEGIN:VEVENT
DTSTART;TZID=America/Winnipeg:20251213T190000
DTEND;TZID=America/Winnipeg:20251213T230000
DTSTAMP:20260421T174808
CREATED:20241101T230201Z
LAST-MODIFIED:20241101T230201Z
UID:8882-1765652400-1765666800@norwoodstbonifacelegion.ca
SUMMARY:Saturday Evening Dance - Gemstar
DESCRIPTION:Saturday Evening Dance – Gemstar
URL:https://norwoodstbonifacelegion.ca/event/saturday-evening-dance-gemstar-9/
CATEGORIES:Saturday Evening Dance
END:VEVENT
BEGIN:VEVENT
DTSTART;TZID=America/Winnipeg:20251213T123000
DTEND;TZID=America/Winnipeg:20251213T150000
DTSTAMP:20260421T174808
CREATED:20250103T115118Z
LAST-MODIFIED:20250103T115118Z
UID:9066-1765629000-1765638000@norwoodstbonifacelegion.ca
SUMMARY:Saturday Bingo
DESCRIPTION:Saturday Bingo
URL:https://norwoodstbonifacelegion.ca/event/saturday-bingo-62/
CATEGORIES:Saturday Bingo
END:VEVENT
BEGIN:VEVENT
DTSTART;TZID=America/Winnipeg:20251212T130000
DTEND;TZID=America/Winnipeg:20251212T150000
DTSTAMP:20260421T174808
CREATED:20251019T105004Z
LAST-MODIFIED:20251019T105004Z
UID:9442-1765544400-1765551600@norwoodstbonifacelegion.ca
SUMMARY:55+ Friday Afternoon Dance
DESCRIPTION:55+ Friday Afternoon Dance
URL:https://norwoodstbonifacelegion.ca/event/55-friday-afternoon-dance-8/
CATEGORIES:55+ Friday Afternoon Dance
END:VEVENT
BEGIN:VEVENT
DTSTART;TZID=America/Winnipeg:20251210T190000
DTEND;TZID=America/Winnipeg:20251210T220000
DTSTAMP:20260421T174808
CREATED:20250103T113714Z
LAST-MODIFIED:20250103T113714Z
UID:9014-1765393200-1765404000@norwoodstbonifacelegion.ca
SUMMARY:Crib Night
DESCRIPTION:Crib Night
URL:https://norwoodstbonifacelegion.ca/event/crib-night-49/
CATEGORIES:Crib Night
END:VEVENT
BEGIN:VEVENT
DTSTART;TZID=America/Winnipeg:20251206T190000
DTEND;TZID=America/Winnipeg:20251206T230000
DTSTAMP:20260421T174808
CREATED:20241101T230201Z
LAST-MODIFIED:20241101T230201Z
UID:8881-1765047600-1765062000@norwoodstbonifacelegion.ca
SUMMARY:Saturday Evening Dance - Hwy 6
DESCRIPTION:Saturday Evening Dance – Hwy 6
URL:https://norwoodstbonifacelegion.ca/event/saturday-evening-dance-hwy-6-7/
CATEGORIES:Saturday Evening Dance
END:VEVENT
BEGIN:VEVENT
DTSTART;TZID=America/Winnipeg:20251206T123000
DTEND;TZID=America/Winnipeg:20251206T150000
DTSTAMP:20260421T174808
CREATED:20250103T115038Z
LAST-MODIFIED:20250103T115038Z
UID:9065-1765024200-1765033200@norwoodstbonifacelegion.ca
SUMMARY:Saturday Bingo
DESCRIPTION:Saturday Bingo
URL:https://norwoodstbonifacelegion.ca/event/saturday-bingo-61/
CATEGORIES:Saturday Bingo
END:VEVENT
BEGIN:VEVENT
DTSTART;TZID=America/Winnipeg:20251205T130000
DTEND;TZID=America/Winnipeg:20251205T150000
DTSTAMP:20260421T174808
CREATED:20251019T105004Z
LAST-MODIFIED:20251019T105004Z
UID:9441-1764939600-1764946800@norwoodstbonifacelegion.ca
SUMMARY:55+ Friday Afternoon Dance
DESCRIPTION:55+ Friday Afternoon Dance
URL:https://norwoodstbonifacelegion.ca/event/55-friday-afternoon-dance-7/
CATEGORIES:55+ Friday Afternoon Dance
END:VEVENT
BEGIN:VEVENT
DTSTART;TZID=America/Winnipeg:20251203T190000
DTEND;TZID=America/Winnipeg:20251203T220000
DTSTAMP:20260421T174808
CREATED:20250103T113714Z
LAST-MODIFIED:20250103T113714Z
UID:9013-1764788400-1764799200@norwoodstbonifacelegion.ca
SUMMARY:Crib Night
DESCRIPTION:Crib Night
URL:https://norwoodstbonifacelegion.ca/event/crib-night-48/
CATEGORIES:Crib Night
END:VEVENT
BEGIN:VEVENT
DTSTART;TZID=America/Winnipeg:20251129T190000
DTEND;TZID=America/Winnipeg:20251129T230000
DTSTAMP:20260421T174808
CREATED:20241101T230146Z
LAST-MODIFIED:20241101T230146Z
UID:8880-1764442800-1764457200@norwoodstbonifacelegion.ca
SUMMARY:Saturday Evening Dance - Starlites
DESCRIPTION:Saturday Evening Dance – Starlites
URL:https://norwoodstbonifacelegion.ca/event/saturday-evening-dance-starlites-7/
CATEGORIES:Saturday Evening Dance
END:VEVENT
BEGIN:VEVENT
DTSTART;TZID=America/Winnipeg:20251129T123000
DTEND;TZID=America/Winnipeg:20251129T150000
DTSTAMP:20260421T174808
CREATED:20250103T115038Z
LAST-MODIFIED:20250103T115038Z
UID:9064-1764419400-1764428400@norwoodstbonifacelegion.ca
SUMMARY:Saturday Bingo
DESCRIPTION:Saturday Bingo
URL:https://norwoodstbonifacelegion.ca/event/saturday-bingo-60/
CATEGORIES:Saturday Bingo
END:VEVENT
BEGIN:VEVENT
DTSTART;TZID=America/Winnipeg:20251128T130000
DTEND;TZID=America/Winnipeg:20251128T150000
DTSTAMP:20260421T174808
CREATED:20251019T105004Z
LAST-MODIFIED:20251019T105004Z
UID:9440-1764334800-1764342000@norwoodstbonifacelegion.ca
SUMMARY:55+ Friday Afternoon Dance
DESCRIPTION:55+ Friday Afternoon Dance
URL:https://norwoodstbonifacelegion.ca/event/55-friday-afternoon-dance-6/
CATEGORIES:55+ Friday Afternoon Dance
END:VEVENT
BEGIN:VEVENT
DTSTART;TZID=America/Winnipeg:20251126T190000
DTEND;TZID=America/Winnipeg:20251126T220000
DTSTAMP:20260421T174808
CREATED:20250103T113714Z
LAST-MODIFIED:20250103T113714Z
UID:9012-1764183600-1764194400@norwoodstbonifacelegion.ca
SUMMARY:Crib Night
DESCRIPTION:Crib Night
URL:https://norwoodstbonifacelegion.ca/event/crib-night-47/
CATEGORIES:Crib Night
END:VEVENT
BEGIN:VEVENT
DTSTART;TZID=America/Winnipeg:20251122T190000
DTEND;TZID=America/Winnipeg:20251122T230000
DTSTAMP:20260421T174808
CREATED:20241101T230146Z
LAST-MODIFIED:20241101T230146Z
UID:8879-1763838000-1763852400@norwoodstbonifacelegion.ca
SUMMARY:Saturday Evening Dance - Top Secret
DESCRIPTION:Saturday Evening Dance – Top Secret
URL:https://norwoodstbonifacelegion.ca/event/saturday-evening-dance-top-secret-7/
CATEGORIES:Saturday Evening Dance
END:VEVENT
BEGIN:VEVENT
DTSTART;TZID=America/Winnipeg:20251122T123000
DTEND;TZID=America/Winnipeg:20251122T150000
DTSTAMP:20260421T174808
CREATED:20250103T115038Z
LAST-MODIFIED:20250103T115038Z
UID:9063-1763814600-1763823600@norwoodstbonifacelegion.ca
SUMMARY:Saturday Bingo
DESCRIPTION:Saturday Bingo
URL:https://norwoodstbonifacelegion.ca/event/saturday-bingo-59/
CATEGORIES:Saturday Bingo
END:VEVENT
BEGIN:VEVENT
DTSTART;TZID=America/Winnipeg:20251121T130000
DTEND;TZID=America/Winnipeg:20251121T150000
DTSTAMP:20260421T174808
CREATED:20251019T105002Z
LAST-MODIFIED:20251019T105002Z
UID:9439-1763730000-1763737200@norwoodstbonifacelegion.ca
SUMMARY:55+ Friday Afternoon Dance
DESCRIPTION:55+ Friday Afternoon Dance
URL:https://norwoodstbonifacelegion.ca/event/55-friday-afternoon-dance-5/
CATEGORIES:55+ Friday Afternoon Dance
END:VEVENT
BEGIN:VEVENT
DTSTART;TZID=America/Winnipeg:20251119T190000
DTEND;TZID=America/Winnipeg:20251119T220000
DTSTAMP:20260421T174808
CREATED:20250103T113714Z
LAST-MODIFIED:20250103T113714Z
UID:9011-1763578800-1763589600@norwoodstbonifacelegion.ca
SUMMARY:Crib Night
DESCRIPTION:Crib Night
URL:https://norwoodstbonifacelegion.ca/event/crib-night-46/
CATEGORIES:Crib Night
END:VEVENT
BEGIN:VEVENT
DTSTART;TZID=America/Winnipeg:20251118T183000
DTEND;TZID=America/Winnipeg:20251118T183000
DTSTAMP:20260421T174808
CREATED:20250103T121246Z
LAST-MODIFIED:20250103T121246Z
UID:9091-1763490600-1763490600@norwoodstbonifacelegion.ca
SUMMARY:Executive Meeting
DESCRIPTION:Executive Meeting
URL:https://norwoodstbonifacelegion.ca/event/executive-meeting-8/
CATEGORIES:Executive Meeting
END:VEVENT
BEGIN:VEVENT
DTSTART;TZID=America/Winnipeg:20251117T130000
DTEND;TZID=America/Winnipeg:20251117T150000
DTSTAMP:20260421T174808
CREATED:20251019T105002Z
LAST-MODIFIED:20251019T105002Z
UID:9438-1763384400-1763391600@norwoodstbonifacelegion.ca
SUMMARY:55+ Friday Afternoon Dance
DESCRIPTION:55+ Friday Afternoon Dance
URL:https://norwoodstbonifacelegion.ca/event/55-friday-afternoon-dance-4/
CATEGORIES:55+ Friday Afternoon Dance
END:VEVENT
BEGIN:VEVENT
DTSTART;TZID=America/Winnipeg:20251115T190000
DTEND;TZID=America/Winnipeg:20251115T230000
DTSTAMP:20260421T174808
CREATED:20241101T230146Z
LAST-MODIFIED:20241101T230146Z
UID:8878-1763233200-1763247600@norwoodstbonifacelegion.ca
SUMMARY:Saturday Evening Dance - Mark Morrisseau
DESCRIPTION:Saturday Evening Dance – Mark Morrisseau
URL:https://norwoodstbonifacelegion.ca/event/saturday-evening-dance-mark-morrisseau-6/
CATEGORIES:Saturday Evening Dance
END:VEVENT
BEGIN:VEVENT
DTSTART;TZID=America/Winnipeg:20251115T123000
DTEND;TZID=America/Winnipeg:20251115T150000
DTSTAMP:20260421T174808
CREATED:20250103T115038Z
LAST-MODIFIED:20250103T115038Z
UID:9062-1763209800-1763218800@norwoodstbonifacelegion.ca
SUMMARY:Saturday Bingo
DESCRIPTION:Saturday Bingo
URL:https://norwoodstbonifacelegion.ca/event/saturday-bingo-58/
CATEGORIES:Saturday Bingo
END:VEVENT
BEGIN:VEVENT
DTSTART;TZID=America/Winnipeg:20251112T190000
DTEND;TZID=America/Winnipeg:20251112T220000
DTSTAMP:20260421T174808
CREATED:20250103T113659Z
LAST-MODIFIED:20250103T113659Z
UID:9010-1762974000-1762984800@norwoodstbonifacelegion.ca
SUMMARY:Crib Night
DESCRIPTION:Crib Night
URL:https://norwoodstbonifacelegion.ca/event/crib-night-45/
CATEGORIES:Crib Night
END:VEVENT
BEGIN:VEVENT
DTSTART;TZID=America/Winnipeg:20251108T190000
DTEND;TZID=America/Winnipeg:20251108T230000
DTSTAMP:20260421T174808
CREATED:20241101T230145Z
LAST-MODIFIED:20241101T230145Z
UID:8877-1762628400-1762642800@norwoodstbonifacelegion.ca
SUMMARY:Saturday Evening Dance - Gemstar
DESCRIPTION:Saturday Evening Dance – Gemstar
URL:https://norwoodstbonifacelegion.ca/event/saturday-evening-dance-gemstar-8/
CATEGORIES:Saturday Evening Dance
END:VEVENT
BEGIN:VEVENT
DTSTART;TZID=America/Winnipeg:20251108T123000
DTEND;TZID=America/Winnipeg:20251108T150000
DTSTAMP:20260421T174808
CREATED:20250103T115037Z
LAST-MODIFIED:20250103T115037Z
UID:9061-1762605000-1762614000@norwoodstbonifacelegion.ca
SUMMARY:Saturday Bingo
DESCRIPTION:Saturday Bingo
URL:https://norwoodstbonifacelegion.ca/event/saturday-bingo-57/
CATEGORIES:Saturday Bingo
END:VEVENT
BEGIN:VEVENT
DTSTART;TZID=America/Winnipeg:20251107T130000
DTEND;TZID=America/Winnipeg:20251107T150000
DTSTAMP:20260421T174808
CREATED:20251019T105002Z
LAST-MODIFIED:20251019T105002Z
UID:9437-1762520400-1762527600@norwoodstbonifacelegion.ca
SUMMARY:55+ Friday Afternoon Dance
DESCRIPTION:55+ Friday Afternoon Dance
URL:https://norwoodstbonifacelegion.ca/event/55-friday-afternoon-dance-3/
CATEGORIES:55+ Friday Afternoon Dance
END:VEVENT
END:VCALENDAR