BEGIN:VCALENDAR
VERSION:2.0
PRODID:-// - ECPv6.15.20//NONSGML v1.0//EN
CALSCALE:GREGORIAN
METHOD:PUBLISH
X-ORIGINAL-URL:https://norwoodstbonifacelegion.ca
X-WR-CALDESC:Events for 
REFRESH-INTERVAL;VALUE=DURATION:PT1H
X-Robots-Tag:noindex
X-PUBLISHED-TTL:PT1H
BEGIN:VTIMEZONE
TZID:America/Winnipeg
BEGIN:DAYLIGHT
TZOFFSETFROM:-0600
TZOFFSETTO:-0500
TZNAME:CDT
DTSTART:20250309T080000
END:DAYLIGHT
BEGIN:STANDARD
TZOFFSETFROM:-0500
TZOFFSETTO:-0600
TZNAME:CST
DTSTART:20251102T070000
END:STANDARD
BEGIN:DAYLIGHT
TZOFFSETFROM:-0600
TZOFFSETTO:-0500
TZNAME:CDT
DTSTART:20260308T080000
END:DAYLIGHT
BEGIN:STANDARD
TZOFFSETFROM:-0500
TZOFFSETTO:-0600
TZNAME:CST
DTSTART:20261101T070000
END:STANDARD
BEGIN:DAYLIGHT
TZOFFSETFROM:-0600
TZOFFSETTO:-0500
TZNAME:CDT
DTSTART:20270314T080000
END:DAYLIGHT
BEGIN:STANDARD
TZOFFSETFROM:-0500
TZOFFSETTO:-0600
TZNAME:CST
DTSTART:20271107T070000
END:STANDARD
END:VTIMEZONE
BEGIN:VEVENT
DTSTART;TZID=America/Winnipeg:20260221T113000
DTEND;TZID=America/Winnipeg:20260221T160000
DTSTAMP:20260421T103247
CREATED:20260307T034714Z
LAST-MODIFIED:20260307T034714Z
UID:9757-1771673400-1771689600@norwoodstbonifacelegion.ca
SUMMARY:Bingo
DESCRIPTION:Saturday Bingo
URL:https://norwoodstbonifacelegion.ca/event/bingo-9/
CATEGORIES:Saturday Bingo
END:VEVENT
BEGIN:VEVENT
DTSTART;TZID=America/Winnipeg:20260221T190000
DTEND;TZID=America/Winnipeg:20260221T230000
DTSTAMP:20260421T103247
CREATED:20260104T230359Z
LAST-MODIFIED:20260104T230359Z
UID:9549-1771700400-1771714800@norwoodstbonifacelegion.ca
SUMMARY:Saturday Evening Dance - TOP SECRET
DESCRIPTION:Saturday Evening Dance – TOP SECRET
URL:https://norwoodstbonifacelegion.ca/event/saturday-evening-dance-top-secret-9/
CATEGORIES:Saturday Evening Dance
END:VEVENT
END:VCALENDAR