BEGIN:VCALENDAR
VERSION:2.0
PRODID:-// - ECPv6.15.20//NONSGML v1.0//EN
CALSCALE:GREGORIAN
METHOD:PUBLISH
X-ORIGINAL-URL:https://norwoodstbonifacelegion.ca
X-WR-CALDESC:Events for 
REFRESH-INTERVAL;VALUE=DURATION:PT1H
X-Robots-Tag:noindex
X-PUBLISHED-TTL:PT1H
BEGIN:VTIMEZONE
TZID:America/Winnipeg
BEGIN:DAYLIGHT
TZOFFSETFROM:-0600
TZOFFSETTO:-0500
TZNAME:CDT
DTSTART:20240310T080000
END:DAYLIGHT
BEGIN:STANDARD
TZOFFSETFROM:-0500
TZOFFSETTO:-0600
TZNAME:CST
DTSTART:20241103T070000
END:STANDARD
BEGIN:DAYLIGHT
TZOFFSETFROM:-0600
TZOFFSETTO:-0500
TZNAME:CDT
DTSTART:20250309T080000
END:DAYLIGHT
BEGIN:STANDARD
TZOFFSETFROM:-0500
TZOFFSETTO:-0600
TZNAME:CST
DTSTART:20251102T070000
END:STANDARD
BEGIN:DAYLIGHT
TZOFFSETFROM:-0600
TZOFFSETTO:-0500
TZNAME:CDT
DTSTART:20260308T080000
END:DAYLIGHT
BEGIN:STANDARD
TZOFFSETFROM:-0500
TZOFFSETTO:-0600
TZNAME:CST
DTSTART:20261101T070000
END:STANDARD
END:VTIMEZONE
BEGIN:VEVENT
DTSTART;TZID=America/Winnipeg:20251122T123000
DTEND;TZID=America/Winnipeg:20251122T150000
DTSTAMP:20260423T035439
CREATED:20250103T115038Z
LAST-MODIFIED:20250103T115038Z
UID:9063-1763814600-1763823600@norwoodstbonifacelegion.ca
SUMMARY:Saturday Bingo
DESCRIPTION:Saturday Bingo
URL:https://norwoodstbonifacelegion.ca/event/saturday-bingo-59/
CATEGORIES:Saturday Bingo
END:VEVENT
BEGIN:VEVENT
DTSTART;TZID=America/Winnipeg:20251122T190000
DTEND;TZID=America/Winnipeg:20251122T230000
DTSTAMP:20260423T035439
CREATED:20241101T230146Z
LAST-MODIFIED:20241101T230146Z
UID:8879-1763838000-1763852400@norwoodstbonifacelegion.ca
SUMMARY:Saturday Evening Dance - Top Secret
DESCRIPTION:Saturday Evening Dance – Top Secret
URL:https://norwoodstbonifacelegion.ca/event/saturday-evening-dance-top-secret-7/
CATEGORIES:Saturday Evening Dance
END:VEVENT
END:VCALENDAR