BEGIN:VCALENDAR
VERSION:2.0
PRODID:-// - ECPv6.15.20//NONSGML v1.0//EN
CALSCALE:GREGORIAN
METHOD:PUBLISH
X-ORIGINAL-URL:https://norwoodstbonifacelegion.ca
X-WR-CALDESC:Events for 
REFRESH-INTERVAL;VALUE=DURATION:PT1H
X-Robots-Tag:noindex
X-PUBLISHED-TTL:PT1H
BEGIN:VTIMEZONE
TZID:America/Winnipeg
BEGIN:DAYLIGHT
TZOFFSETFROM:-0600
TZOFFSETTO:-0500
TZNAME:CDT
DTSTART:20240310T080000
END:DAYLIGHT
BEGIN:STANDARD
TZOFFSETFROM:-0500
TZOFFSETTO:-0600
TZNAME:CST
DTSTART:20241103T070000
END:STANDARD
BEGIN:DAYLIGHT
TZOFFSETFROM:-0600
TZOFFSETTO:-0500
TZNAME:CDT
DTSTART:20250309T080000
END:DAYLIGHT
BEGIN:STANDARD
TZOFFSETFROM:-0500
TZOFFSETTO:-0600
TZNAME:CST
DTSTART:20251102T070000
END:STANDARD
BEGIN:DAYLIGHT
TZOFFSETFROM:-0600
TZOFFSETTO:-0500
TZNAME:CDT
DTSTART:20260308T080000
END:DAYLIGHT
BEGIN:STANDARD
TZOFFSETFROM:-0500
TZOFFSETTO:-0600
TZNAME:CST
DTSTART:20261101T070000
END:STANDARD
END:VTIMEZONE
BEGIN:VEVENT
DTSTART;TZID=America/Winnipeg:20251005T190000
DTEND;TZID=America/Winnipeg:20251005T230000
DTSTAMP:20260423T090025
CREATED:20241101T230132Z
LAST-MODIFIED:20241101T230132Z
UID:8872-1759690800-1759705200@norwoodstbonifacelegion.ca
SUMMARY:Saturday Evening Dance - Country Pride - Fall Supper Dinner and Dance - Call Faye 204-229-7280
DESCRIPTION:Saturday Evening Dance – Country Pride – Fall Supper Dinner and Dance – Call Faye 204-229-7280
URL:https://norwoodstbonifacelegion.ca/event/saturday-evening-dance-country-pride-fall-supper-dinner-and-dance-call-faye-204-229-7280/
CATEGORIES:Saturday Evening Dance
END:VEVENT
END:VCALENDAR